BEGIN:VCALENDAR
VERSION:2.0
PRODID:-//Village Music School - Cary, NC - ECPv6.15.20//NONSGML v1.0//EN
CALSCALE:GREGORIAN
METHOD:PUBLISH
X-ORIGINAL-URL:https://villagemusicschool.com
X-WR-CALDESC:Events for Village Music School - Cary, NC
REFRESH-INTERVAL;VALUE=DURATION:PT1H
X-Robots-Tag:noindex
X-PUBLISHED-TTL:PT1H
BEGIN:VTIMEZONE
TZID:America/New_York
BEGIN:DAYLIGHT
TZOFFSETFROM:-0500
TZOFFSETTO:-0400
TZNAME:EDT
DTSTART:20230312T070000
END:DAYLIGHT
BEGIN:STANDARD
TZOFFSETFROM:-0400
TZOFFSETTO:-0500
TZNAME:EST
DTSTART:20231105T060000
END:STANDARD
BEGIN:DAYLIGHT
TZOFFSETFROM:-0500
TZOFFSETTO:-0400
TZNAME:EDT
DTSTART:20240310T070000
END:DAYLIGHT
BEGIN:STANDARD
TZOFFSETFROM:-0400
TZOFFSETTO:-0500
TZNAME:EST
DTSTART:20241103T060000
END:STANDARD
BEGIN:DAYLIGHT
TZOFFSETFROM:-0500
TZOFFSETTO:-0400
TZNAME:EDT
DTSTART:20250309T070000
END:DAYLIGHT
BEGIN:STANDARD
TZOFFSETFROM:-0400
TZOFFSETTO:-0500
TZNAME:EST
DTSTART:20251102T060000
END:STANDARD
END:VTIMEZONE
BEGIN:VEVENT
DTSTART;TZID=America/New_York:20240511T110000
DTEND;TZID=America/New_York:20240511T114500
DTSTAMP:20260419T200855
CREATED:20240501T214034Z
LAST-MODIFIED:20240501T214037Z
UID:1755-1715425200-1715427900@villagemusicschool.com
SUMMARY:Student Recital | Ms. Emily
DESCRIPTION:A collection of student performances prepared for Ms. Emily’s recital. Hosted at Village Music School.
URL:https://villagemusicschool.com/event/student-recital-emily-s-2024-05-11/
LOCATION:Village Music School\, 101 Gathering Park Circle\, Cary\, North Carolina\, 27519\, United States
CATEGORIES:Recital,Student Recital
ATTACH;FMTTYPE=image/jpeg:https://villagemusicschool.com/wp-content/uploads/2022/11/piano-and-violin-sm.jpg
END:VEVENT
BEGIN:VEVENT
DTSTART;TZID=America/New_York:20240527T000000
DTEND;TZID=America/New_York:20240527T235959
DTSTAMP:20260419T200855
CREATED:20240109T012313Z
LAST-MODIFIED:20240112T003139Z
UID:1717-1716768000-1716854399@villagemusicschool.com
SUMMARY:Closed - Memorial Day
DESCRIPTION:
URL:https://villagemusicschool.com/event/memorial-day-2024/
LOCATION:Village Music School\, 101 Gathering Park Circle\, Cary\, NC\, 27519\, United States
CATEGORIES:Closed
ATTACH;FMTTYPE=image/jpeg:https://villagemusicschool.com/wp-content/uploads/2024/01/mermorial-day-2024.jpg
END:VEVENT
END:VCALENDAR