BEGIN:VCALENDAR
VERSION:2.0
PRODID:-//Village Music School - Cary, NC - ECPv6.15.20//NONSGML v1.0//EN
CALSCALE:GREGORIAN
METHOD:PUBLISH
X-ORIGINAL-URL:https://villagemusicschool.com
X-WR-CALDESC:Events for Village Music School - Cary, NC
REFRESH-INTERVAL;VALUE=DURATION:PT1H
X-Robots-Tag:noindex
X-PUBLISHED-TTL:PT1H
BEGIN:VTIMEZONE
TZID:America/New_York
BEGIN:DAYLIGHT
TZOFFSETFROM:-0500
TZOFFSETTO:-0400
TZNAME:EDT
DTSTART:20220313T070000
END:DAYLIGHT
BEGIN:STANDARD
TZOFFSETFROM:-0400
TZOFFSETTO:-0500
TZNAME:EST
DTSTART:20221106T060000
END:STANDARD
BEGIN:DAYLIGHT
TZOFFSETFROM:-0500
TZOFFSETTO:-0400
TZNAME:EDT
DTSTART:20230312T070000
END:DAYLIGHT
BEGIN:STANDARD
TZOFFSETFROM:-0400
TZOFFSETTO:-0500
TZNAME:EST
DTSTART:20231105T060000
END:STANDARD
BEGIN:DAYLIGHT
TZOFFSETFROM:-0500
TZOFFSETTO:-0400
TZNAME:EDT
DTSTART:20240310T070000
END:DAYLIGHT
BEGIN:STANDARD
TZOFFSETFROM:-0400
TZOFFSETTO:-0500
TZNAME:EST
DTSTART:20241103T060000
END:STANDARD
END:VTIMEZONE
BEGIN:VEVENT
DTSTART;TZID=America/New_York:20230506T110000
DTEND;TZID=America/New_York:20230506T114500
DTSTAMP:20260420T181001
CREATED:20230203T164130Z
LAST-MODIFIED:20230203T164131Z
UID:1560-1683370800-1683373500@villagemusicschool.com
SUMMARY:Violin Group Class - Beginner II
DESCRIPTION:Join our instructor\, Anne\, and your fellow musicians for a violin group class for skills development using a modified Suzuki Method. In addition to general skills development\, you’ll learn about scales and arpeggios\, solo pieces\, and RCM prep. \n\n\n\n\n\nRegistration Required \n\n\n\n\nRegister\n\n\n\nMore Info
URL:https://villagemusicschool.com/event/violin-group-class-beginner-2-2023-05-06/
LOCATION:Village Music School\, 101 Gathering Park Circle\, Cary\, North Carolina\, 27519\, United States
CATEGORIES:Group Class
ATTACH;FMTTYPE=image/jpeg:https://villagemusicschool.com/wp-content/uploads/2022/05/violin-2-scaled.jpeg
END:VEVENT
BEGIN:VEVENT
DTSTART;TZID=America/New_York:20230506T120000
DTEND;TZID=America/New_York:20230506T124500
DTSTAMP:20260420T181001
CREATED:20230203T165152Z
LAST-MODIFIED:20230505T180737Z
UID:1566-1683374400-1683377100@villagemusicschool.com
SUMMARY:Violin Group Class - Intermediate
DESCRIPTION:Focus on learning the flat keys (Suzuki Method Book 2)\, RCM exam preparation\, music theory\, and more with your fellow musicians in the intermediate violin group class. Taught by our amazing instructor\, Anne. \n\n\n\n\n\nRegistration Required \n\n\n\n\nRegister\n\n\n\nMore Info
URL:https://villagemusicschool.com/event/violin-group-class-intermediate-2023-05-06/
LOCATION:Village Music School\, 101 Gathering Park Circle\, Cary\, North Carolina\, 27519\, United States
CATEGORIES:Group Class
ATTACH;FMTTYPE=image/jpeg:https://villagemusicschool.com/wp-content/uploads/2022/05/violin-and-bow-edited-scaled.jpeg
END:VEVENT
BEGIN:VEVENT
DTSTART;TZID=America/New_York:20230513T110000
DTEND;TZID=America/New_York:20230513T114500
DTSTAMP:20260420T181001
CREATED:20230506T010103Z
LAST-MODIFIED:20230612T021411Z
UID:1596-1683975600-1683978300@villagemusicschool.com
SUMMARY:Student Recital - Ms. Emily
DESCRIPTION:Student performances of pieces that they prepared for Ms. Emily’s recital. Hosted at Village Music School.
URL:https://villagemusicschool.com/event/student-recital-emily-s-2023-05-13/
LOCATION:Village Music School\, 101 Gathering Park Circle\, Cary\, North Carolina\, 27519\, United States
CATEGORIES:Student Recital
ATTACH;FMTTYPE=image/jpeg:https://villagemusicschool.com/wp-content/uploads/2022/09/performance-competition-workshop-featured-image-scaled.jpeg
END:VEVENT
BEGIN:VEVENT
DTSTART;TZID=America/New_York:20230529T000000
DTEND;TZID=America/New_York:20230529T235959
DTSTAMP:20260420T181001
CREATED:20221105T010637Z
LAST-MODIFIED:20221105T010640Z
UID:1490-1685318400-1685404799@villagemusicschool.com
SUMMARY:Closed - Memorial Day
DESCRIPTION:We’re closed for Memorial Day
URL:https://villagemusicschool.com/event/memorial-day-2023/
LOCATION:Village Music School\, 101 Gathering Park Circle\, Cary\, North Carolina\, 27519\, United States
CATEGORIES:Closed
END:VEVENT
END:VCALENDAR