BEGIN:VCALENDAR
VERSION:2.0
PRODID:-//Village Music School - Cary, NC - ECPv6.15.20//NONSGML v1.0//EN
CALSCALE:GREGORIAN
METHOD:PUBLISH
X-WR-CALNAME:Village Music School - Cary, NC
X-ORIGINAL-URL:https://villagemusicschool.com
X-WR-CALDESC:Events for Village Music School - Cary, NC
REFRESH-INTERVAL;VALUE=DURATION:PT1H
X-Robots-Tag:noindex
X-PUBLISHED-TTL:PT1H
BEGIN:VTIMEZONE
TZID:America/New_York
BEGIN:DAYLIGHT
TZOFFSETFROM:-0500
TZOFFSETTO:-0400
TZNAME:EDT
DTSTART:20220313T070000
END:DAYLIGHT
BEGIN:STANDARD
TZOFFSETFROM:-0400
TZOFFSETTO:-0500
TZNAME:EST
DTSTART:20221106T060000
END:STANDARD
BEGIN:DAYLIGHT
TZOFFSETFROM:-0500
TZOFFSETTO:-0400
TZNAME:EDT
DTSTART:20230312T070000
END:DAYLIGHT
BEGIN:STANDARD
TZOFFSETFROM:-0400
TZOFFSETTO:-0500
TZNAME:EST
DTSTART:20231105T060000
END:STANDARD
BEGIN:DAYLIGHT
TZOFFSETFROM:-0500
TZOFFSETTO:-0400
TZNAME:EDT
DTSTART:20240310T070000
END:DAYLIGHT
BEGIN:STANDARD
TZOFFSETFROM:-0400
TZOFFSETTO:-0500
TZNAME:EST
DTSTART:20241103T060000
END:STANDARD
END:VTIMEZONE
BEGIN:VEVENT
DTSTART;TZID=America/New_York:20231216T140000
DTEND;TZID=America/New_York:20231216T144500
DTSTAMP:20260423T030040
CREATED:20231204T184726Z
LAST-MODIFIED:20231204T184729Z
UID:1699-1702735200-1702737900@villagemusicschool.com
SUMMARY:Student Recital | Mr. Craig
DESCRIPTION:Student performances of pieces that they prepared for Mr. Craig’s recital. Hosted at Village Music School.
URL:https://villagemusicschool.com/event/student-recital-craig-h-2023-12-16-1/
LOCATION:Village Music School\, 101 Gathering Park Circle\, Cary\, NC\, 27519\, United States
CATEGORIES:Recital,Student Recital
ATTACH;FMTTYPE=image/jpeg:https://villagemusicschool.com/wp-content/uploads/2022/12/guitar-01-scaled.jpeg
END:VEVENT
BEGIN:VEVENT
DTSTART;TZID=America/New_York:20231216T150000
DTEND;TZID=America/New_York:20231216T154500
DTSTAMP:20260423T030040
CREATED:20231204T185157Z
LAST-MODIFIED:20231204T185200Z
UID:1701-1702738800-1702741500@villagemusicschool.com
SUMMARY:Student Recital | Mr. Craig
DESCRIPTION:Student performances of pieces that they prepared for Mr. Craig’s recital. Hosted at Village Music School.
URL:https://villagemusicschool.com/event/student-recital-craig-h-2023-12-16-2/
LOCATION:Village Music School\, 101 Gathering Park Circle\, Cary\, NC\, 27519\, United States
CATEGORIES:Recital,Student Recital
ATTACH;FMTTYPE=image/jpeg:https://villagemusicschool.com/wp-content/uploads/2022/12/guitar-01-scaled.jpeg
END:VEVENT
END:VCALENDAR