BEGIN:VCALENDAR
VERSION:2.0
PRODID:-//Village Music School - Cary, NC - ECPv6.15.20//NONSGML v1.0//EN
CALSCALE:GREGORIAN
METHOD:PUBLISH
X-ORIGINAL-URL:https://villagemusicschool.com
X-WR-CALDESC:Events for Village Music School - Cary, NC
REFRESH-INTERVAL;VALUE=DURATION:PT1H
X-Robots-Tag:noindex
X-PUBLISHED-TTL:PT1H
BEGIN:VTIMEZONE
TZID:America/New_York
BEGIN:DAYLIGHT
TZOFFSETFROM:-0500
TZOFFSETTO:-0400
TZNAME:EDT
DTSTART:20220313T070000
END:DAYLIGHT
BEGIN:STANDARD
TZOFFSETFROM:-0400
TZOFFSETTO:-0500
TZNAME:EST
DTSTART:20221106T060000
END:STANDARD
BEGIN:DAYLIGHT
TZOFFSETFROM:-0500
TZOFFSETTO:-0400
TZNAME:EDT
DTSTART:20230312T070000
END:DAYLIGHT
BEGIN:STANDARD
TZOFFSETFROM:-0400
TZOFFSETTO:-0500
TZNAME:EST
DTSTART:20231105T060000
END:STANDARD
BEGIN:DAYLIGHT
TZOFFSETFROM:-0500
TZOFFSETTO:-0400
TZNAME:EDT
DTSTART:20240310T070000
END:DAYLIGHT
BEGIN:STANDARD
TZOFFSETFROM:-0400
TZOFFSETTO:-0500
TZNAME:EST
DTSTART:20241103T060000
END:STANDARD
END:VTIMEZONE
BEGIN:VEVENT
DTSTART;TZID=America/New_York:20230121T110000
DTEND;TZID=America/New_York:20230121T114500
DTSTAMP:20260422T184225
CREATED:20221003T194849Z
LAST-MODIFIED:20230120T183132Z
UID:1446-1674298800-1674301500@villagemusicschool.com
SUMMARY:Violin Group Class - Beginner II
DESCRIPTION:Join our instructor\, Anne\, and your fellow musicians to work on basic skill development using a modified Suzuki Method. You can expect to develop your technical\, note-reading\, and performance skills in this beginner violin group class. \n\n\n\n\n\nRegistration Required \n\n\n\n\nRegister\n\n\n\nMore Info
URL:https://villagemusicschool.com/event/violin-group-class-beginner-2-2023-1-21/
LOCATION:Village Music School\, 101 Gathering Park Circle\, Cary\, North Carolina\, 27519\, United States
CATEGORIES:Group Class
ATTACH;FMTTYPE=image/jpeg:https://villagemusicschool.com/wp-content/uploads/2022/05/violin-2-scaled.jpeg
END:VEVENT
BEGIN:VEVENT
DTSTART;TZID=America/New_York:20230121T120000
DTEND;TZID=America/New_York:20230121T124500
DTSTAMP:20260422T184225
CREATED:20221003T201416Z
LAST-MODIFIED:20230120T183046Z
UID:1457-1674302400-1674305100@villagemusicschool.com
SUMMARY:Violin Group Class - Intermediate
DESCRIPTION:Focus on learning the flat keys (Suzuki Method Book 2)\, RCM exam preparation\, music theory\, and more with your fellow musicians in the intermediate violin group class. Taught by our amazing instructor\, Anne. \n\n\n\n\n\nRegistration Required \n\n\n\n\nRegister\n\n\n\nMore Info
URL:https://villagemusicschool.com/event/violin-group-class-intermediate-2023-1-21/
LOCATION:Village Music School\, 101 Gathering Park Circle\, Cary\, North Carolina\, 27519\, United States
CATEGORIES:Group Class
ATTACH;FMTTYPE=image/jpeg:https://villagemusicschool.com/wp-content/uploads/2022/05/violin-and-bow-edited-scaled.jpeg
END:VEVENT
END:VCALENDAR