BEGIN:VCALENDAR
VERSION:2.0
PRODID:-//Village Music School - Cary, NC - ECPv6.15.20//NONSGML v1.0//EN
CALSCALE:GREGORIAN
METHOD:PUBLISH
X-ORIGINAL-URL:https://villagemusicschool.com
X-WR-CALDESC:Events for Village Music School - Cary, NC
REFRESH-INTERVAL;VALUE=DURATION:PT1H
X-Robots-Tag:noindex
X-PUBLISHED-TTL:PT1H
BEGIN:VTIMEZONE
TZID:America/New_York
BEGIN:DAYLIGHT
TZOFFSETFROM:-0500
TZOFFSETTO:-0400
TZNAME:EDT
DTSTART:20210314T070000
END:DAYLIGHT
BEGIN:STANDARD
TZOFFSETFROM:-0400
TZOFFSETTO:-0500
TZNAME:EST
DTSTART:20211107T060000
END:STANDARD
BEGIN:DAYLIGHT
TZOFFSETFROM:-0500
TZOFFSETTO:-0400
TZNAME:EDT
DTSTART:20220313T070000
END:DAYLIGHT
BEGIN:STANDARD
TZOFFSETFROM:-0400
TZOFFSETTO:-0500
TZNAME:EST
DTSTART:20221106T060000
END:STANDARD
BEGIN:DAYLIGHT
TZOFFSETFROM:-0500
TZOFFSETTO:-0400
TZNAME:EDT
DTSTART:20230312T070000
END:DAYLIGHT
BEGIN:STANDARD
TZOFFSETFROM:-0400
TZOFFSETTO:-0500
TZNAME:EST
DTSTART:20231105T060000
END:STANDARD
END:VTIMEZONE
BEGIN:VEVENT
DTSTART;TZID=America/New_York:20221022T110000
DTEND;TZID=America/New_York:20221022T114500
DTSTAMP:20260423T025616
CREATED:20220602T171300Z
LAST-MODIFIED:20221021T180455Z
UID:1312-1666436400-1666439100@villagemusicschool.com
SUMMARY:Violin Group Class - Beginner II
DESCRIPTION:Join our instructor\, Anne\, and your fellow musicians to work on basic skill development using a modified Suzuki Method. You can expect to develop your technical\, note-reading\, and performance skills in this beginner violin group class. \n\n\n\n\n\nRegistration Required \n\n\n\n\nRegister\n\n\n\nMore Info
URL:https://villagemusicschool.com/event/violin-group-class-beginner-ii-2022-10-22/
LOCATION:Village Music School\, 101 Gathering Park Circle\, Cary\, North Carolina\, 27519\, United States
CATEGORIES:Group Class
ATTACH;FMTTYPE=image/jpeg:https://villagemusicschool.com/wp-content/uploads/2022/05/violin-2-scaled.jpeg
END:VEVENT
BEGIN:VEVENT
DTSTART;TZID=America/New_York:20221022T120000
DTEND;TZID=America/New_York:20221022T124500
DTSTAMP:20260423T025616
CREATED:20220602T201418Z
LAST-MODIFIED:20221022T111530Z
UID:1340-1666440000-1666442700@villagemusicschool.com
SUMMARY:Violin Group Class - Intermediate
DESCRIPTION:Focus on learning the flat keys (Suzuki Method Book 2)\, RCM exam preparation\, music theory\, and more with your fellow musicians in the intermediate violin group class. Taught by our amazing instructor\, Anne. \n\n\n\n\n\nRegistration Required \n\n\n\n\nRegister\n\n\n\nMore Info
URL:https://villagemusicschool.com/event/violin-group-class-intermediate-2022-10-22/
LOCATION:Village Music School\, 101 Gathering Park Circle\, Cary\, North Carolina\, 27519\, United States
CATEGORIES:Group Class
ATTACH;FMTTYPE=image/jpeg:https://villagemusicschool.com/wp-content/uploads/2022/05/violin-and-bow-edited-scaled.jpeg
END:VEVENT
END:VCALENDAR