BEGIN:VCALENDAR
VERSION:2.0
PRODID:-//Village Music School - Cary, NC - ECPv6.15.20//NONSGML v1.0//EN
CALSCALE:GREGORIAN
METHOD:PUBLISH
X-WR-CALNAME:Village Music School - Cary, NC
X-ORIGINAL-URL:https://villagemusicschool.com
X-WR-CALDESC:Events for Village Music School - Cary, NC
REFRESH-INTERVAL;VALUE=DURATION:PT1H
X-Robots-Tag:noindex
X-PUBLISHED-TTL:PT1H
BEGIN:VTIMEZONE
TZID:America/New_York
BEGIN:DAYLIGHT
TZOFFSETFROM:-0500
TZOFFSETTO:-0400
TZNAME:EDT
DTSTART:20170312T070000
END:DAYLIGHT
BEGIN:STANDARD
TZOFFSETFROM:-0400
TZOFFSETTO:-0500
TZNAME:EST
DTSTART:20171105T060000
END:STANDARD
BEGIN:DAYLIGHT
TZOFFSETFROM:-0500
TZOFFSETTO:-0400
TZNAME:EDT
DTSTART:20180311T070000
END:DAYLIGHT
BEGIN:STANDARD
TZOFFSETFROM:-0400
TZOFFSETTO:-0500
TZNAME:EST
DTSTART:20181104T060000
END:STANDARD
BEGIN:DAYLIGHT
TZOFFSETFROM:-0500
TZOFFSETTO:-0400
TZNAME:EDT
DTSTART:20190310T070000
END:DAYLIGHT
BEGIN:STANDARD
TZOFFSETFROM:-0400
TZOFFSETTO:-0500
TZNAME:EST
DTSTART:20191103T060000
END:STANDARD
BEGIN:DAYLIGHT
TZOFFSETFROM:-0500
TZOFFSETTO:-0400
TZNAME:EDT
DTSTART:20200308T070000
END:DAYLIGHT
BEGIN:STANDARD
TZOFFSETFROM:-0400
TZOFFSETTO:-0500
TZNAME:EST
DTSTART:20201101T060000
END:STANDARD
BEGIN:DAYLIGHT
TZOFFSETFROM:-0500
TZOFFSETTO:-0400
TZNAME:EDT
DTSTART:20210314T070000
END:DAYLIGHT
BEGIN:STANDARD
TZOFFSETFROM:-0400
TZOFFSETTO:-0500
TZNAME:EST
DTSTART:20211107T060000
END:STANDARD
BEGIN:DAYLIGHT
TZOFFSETFROM:-0500
TZOFFSETTO:-0400
TZNAME:EDT
DTSTART:20220313T070000
END:DAYLIGHT
BEGIN:STANDARD
TZOFFSETFROM:-0400
TZOFFSETTO:-0500
TZNAME:EST
DTSTART:20221106T060000
END:STANDARD
BEGIN:DAYLIGHT
TZOFFSETFROM:-0500
TZOFFSETTO:-0400
TZNAME:EDT
DTSTART:20230312T070000
END:DAYLIGHT
BEGIN:STANDARD
TZOFFSETFROM:-0400
TZOFFSETTO:-0500
TZNAME:EST
DTSTART:20231105T060000
END:STANDARD
END:VTIMEZONE
BEGIN:VEVENT
DTSTART;VALUE=DATE:20211222
DTEND;VALUE=DATE:20220102
DTSTAMP:20260425T064150
CREATED:20201208T205722Z
LAST-MODIFIED:20201208T205722Z
UID:1109-1640131200-1641081599@villagemusicschool.com
SUMMARY:Closed - Winter Break
DESCRIPTION:We are closed for Winter Break. We’ll be back on Monday\, January 3.
URL:https://villagemusicschool.com/event/closed-winterbreak2021/
LOCATION:Village Music School\, 101 Gathering Park Circle\, Cary\, NC\, 27519\, United States
CATEGORIES:Closed
END:VEVENT
BEGIN:VEVENT
DTSTART;VALUE=DATE:20211124
DTEND;VALUE=DATE:20211128
DTSTAMP:20260425T064150
CREATED:20201208T205142Z
LAST-MODIFIED:20201208T205412Z
UID:1107-1637712000-1638057599@villagemusicschool.com
SUMMARY:Closed - Thanksgiving Break
DESCRIPTION:We are closed for Thanksgiving Break. We’ll be back on Monday\, November 29.
URL:https://villagemusicschool.com/event/closed-thanksgivingbreak2021/
LOCATION:Village Music School\, 101 Gathering Park Circle\, Cary\, NC\, 27519\, United States
CATEGORIES:Closed
END:VEVENT
BEGIN:VEVENT
DTSTART;VALUE=DATE:20210906
DTEND;VALUE=DATE:20210907
DTSTAMP:20260425T064150
CREATED:20201208T204953Z
LAST-MODIFIED:20201208T204953Z
UID:1105-1630886400-1630972799@villagemusicschool.com
SUMMARY:Closed - Labor Day
DESCRIPTION:We are closed for Labor Day. We’ll be back on Tuesday\, September 7.
URL:https://villagemusicschool.com/event/closed-laborday2021/
LOCATION:Village Music School\, 101 Gathering Park Circle\, Cary\, NC\, 27519\, United States
CATEGORIES:Closed
END:VEVENT
BEGIN:VEVENT
DTSTART;VALUE=DATE:20210629
DTEND;VALUE=DATE:20210707
DTSTAMP:20260425T064150
CREATED:20201208T204809Z
LAST-MODIFIED:20201208T204809Z
UID:1103-1624924800-1625615999@villagemusicschool.com
SUMMARY:Closed - Summer Break
DESCRIPTION:We are closed for Summer Break. We’ll be back on Wednesday\, July 7.
URL:https://villagemusicschool.com/event/closed-summerbreak2021/
LOCATION:Village Music School\, 101 Gathering Park Circle\, Cary\, NC\, 27519\, United States
CATEGORIES:Closed
END:VEVENT
BEGIN:VEVENT
DTSTART;VALUE=DATE:20210531
DTEND;VALUE=DATE:20210601
DTSTAMP:20260425T064150
CREATED:20201208T204609Z
LAST-MODIFIED:20210104T194138Z
UID:1101-1622419200-1622505599@villagemusicschool.com
SUMMARY:Closed - Memorial Day
DESCRIPTION:We are closed for Memorial Day. We’ll be back on Tuesday\, June 1.
URL:https://villagemusicschool.com/event/closed-memorialday2021/
LOCATION:Village Music School\, 101 Gathering Park Circle\, Cary\, NC\, 27519\, United States
CATEGORIES:Closed
END:VEVENT
BEGIN:VEVENT
DTSTART;VALUE=DATE:20210329
DTEND;VALUE=DATE:20210404
DTSTAMP:20260425T064150
CREATED:20201208T204336Z
LAST-MODIFIED:20201208T204336Z
UID:1098-1616976000-1617494399@villagemusicschool.com
SUMMARY:Closed - Spring Break
DESCRIPTION:We are closed for Spring Break. We’ll be back on Monday\, April 5.
URL:https://villagemusicschool.com/event/closed-spring-break-2021/
LOCATION:Village Music School\, 101 Gathering Park Circle\, Cary\, NC\, 27519\, United States
CATEGORIES:Closed
END:VEVENT
BEGIN:VEVENT
DTSTART;VALUE=DATE:20201222
DTEND;VALUE=DATE:20210103
DTSTAMP:20260425T064150
CREATED:20191105T214353Z
LAST-MODIFIED:20191105T214353Z
UID:990-1608595200-1609631999@villagemusicschool.com
SUMMARY:Closed - Winter Break
DESCRIPTION:We are closed for Winter Break. We’ll be back on Monday\, January 4.
URL:https://villagemusicschool.com/event/closed-winterbreak2020/
LOCATION:NC
CATEGORIES:Closed
END:VEVENT
BEGIN:VEVENT
DTSTART;VALUE=DATE:20201126
DTEND;VALUE=DATE:20201129
DTSTAMP:20260425T064150
CREATED:20191105T214251Z
LAST-MODIFIED:20191105T214251Z
UID:988-1606348800-1606607999@villagemusicschool.com
SUMMARY:Closed- Thanksgiving Break
DESCRIPTION:We are closed for Thanksgiving Break. We’ll be back on Monday\, November 30.
URL:https://villagemusicschool.com/event/closed-thanksgivingbreak2020/
LOCATION:NC
CATEGORIES:Closed
END:VEVENT
BEGIN:VEVENT
DTSTART;VALUE=DATE:20200907
DTEND;VALUE=DATE:20200908
DTSTAMP:20260425T064150
CREATED:20191105T214140Z
LAST-MODIFIED:20191105T214140Z
UID:986-1599436800-1599523199@villagemusicschool.com
SUMMARY:Closed - Labor Day
DESCRIPTION:We are closed for Labor Day. We’ll be back on Tuesday\, September 8.
URL:https://villagemusicschool.com/event/closed-laborday2020/
LOCATION:NC
CATEGORIES:Closed
END:VEVENT
BEGIN:VEVENT
DTSTART;VALUE=DATE:20200630
DTEND;VALUE=DATE:20200707
DTSTAMP:20260425T064150
CREATED:20191105T214039Z
LAST-MODIFIED:20191105T214039Z
UID:984-1593475200-1594079999@villagemusicschool.com
SUMMARY:Closed - Summer Break
DESCRIPTION:We are closed for Summer Break. We’ll be back on Tuesday\, July 7.
URL:https://villagemusicschool.com/event/closed-summerbreak2020/
LOCATION:NC
CATEGORIES:Closed
END:VEVENT
BEGIN:VEVENT
DTSTART;VALUE=DATE:20200523
DTEND;VALUE=DATE:20200526
DTSTAMP:20260425T064150
CREATED:20191105T213906Z
LAST-MODIFIED:20200514T183707Z
UID:982-1590192000-1590451199@villagemusicschool.com
SUMMARY:Closed - Memorial Day
DESCRIPTION:We are closed for Memorial Day Weekend. We’ll be back on Tuesday\, May 26.
URL:https://villagemusicschool.com/event/closed-memorialday2020/
LOCATION:NC
CATEGORIES:Closed
END:VEVENT
BEGIN:VEVENT
DTSTART;VALUE=DATE:20200220
DTEND;VALUE=DATE:20200221
DTSTAMP:20260425T064150
CREATED:20200220T160640Z
LAST-MODIFIED:20200220T160640Z
UID:1051-1582156800-1582243199@villagemusicschool.com
SUMMARY:Closed - Snow Day
DESCRIPTION:VMS will be closed today due to the inclement weather. Have fun\, stay warm and be safe!
URL:https://villagemusicschool.com/event/closed-snow-day-2-20-20/
LOCATION:Village Music School\, 101 Gathering Park Circle\, Cary\, NC\, 27519\, United States
CATEGORIES:Closed
END:VEVENT
BEGIN:VEVENT
DTSTART;VALUE=DATE:20191223
DTEND;VALUE=DATE:20200104
DTSTAMP:20260425T064150
CREATED:20181004T151849Z
LAST-MODIFIED:20190222T193851Z
UID:600-1577059200-1578095999@villagemusicschool.com
SUMMARY:Closed - Winter Break
DESCRIPTION:We are closed for Winter Break. We’ll be back on Saturday\, January 4.
URL:https://villagemusicschool.com/event/closed-winterbreak2019/
LOCATION:Village Music School\, 101 Gathering Park Circle\, Cary\, NC\, 27519\, United States
CATEGORIES:Closed
END:VEVENT
BEGIN:VEVENT
DTSTART;VALUE=DATE:20191127
DTEND;VALUE=DATE:20191201
DTSTAMP:20260425T064150
CREATED:20181004T151044Z
LAST-MODIFIED:20181004T151952Z
UID:598-1574812800-1575158399@villagemusicschool.com
SUMMARY:Closed- Thanksgiving Break
DESCRIPTION:We are closed for Thanksgiving Break. We’ll be back on Monday\, December 2.
URL:https://villagemusicschool.com/event/closed-thanksgivingbreak2019/
LOCATION:NC
CATEGORIES:Closed
END:VEVENT
BEGIN:VEVENT
DTSTART;VALUE=DATE:20190905
DTEND;VALUE=DATE:20190906
DTSTAMP:20260425T064150
CREATED:20190905T142847Z
LAST-MODIFIED:20190905T142847Z
UID:939-1567641600-1567727999@villagemusicschool.com
SUMMARY:Closed - Hurricane Dorian
DESCRIPTION:We’ll be closed today due to Hurricane Dorian. Everyone stay safe!
URL:https://villagemusicschool.com/event/inclement-weather-9-5-19/
LOCATION:Village Music School\, 101 Gathering Park Circle\, Cary\, NC\, 27519\, United States
CATEGORIES:Closed
END:VEVENT
BEGIN:VEVENT
DTSTART;VALUE=DATE:20190902
DTEND;VALUE=DATE:20190903
DTSTAMP:20260425T064150
CREATED:20181004T150917Z
LAST-MODIFIED:20190104T162815Z
UID:596-1567382400-1567468799@villagemusicschool.com
SUMMARY:Closed - Labor Day
DESCRIPTION:We are closed for Labor Day. We’ll be back on Tuesday\, September 3.
URL:https://villagemusicschool.com/event/closed-laborday2019/
LOCATION:NC
CATEGORIES:Closed
END:VEVENT
BEGIN:VEVENT
DTSTART;VALUE=DATE:20190701
DTEND;VALUE=DATE:20190707
DTSTAMP:20260425T064150
CREATED:20181004T150814Z
LAST-MODIFIED:20190104T162616Z
UID:594-1561939200-1562457599@villagemusicschool.com
SUMMARY:Closed - Summer Break
DESCRIPTION:We are closed for Summer Break. We’ll be back on Monday\, July 8.
URL:https://villagemusicschool.com/event/closed-summerbreak2019/
LOCATION:NC
CATEGORIES:Closed
END:VEVENT
BEGIN:VEVENT
DTSTART;VALUE=DATE:20190525
DTEND;VALUE=DATE:20190528
DTSTAMP:20260425T064150
CREATED:20181004T150635Z
LAST-MODIFIED:20181004T155808Z
UID:592-1558742400-1559001599@villagemusicschool.com
SUMMARY:Closed - Memorial Day
DESCRIPTION:We are closed for Memorial Day Weekend. We’ll be back on Tuesday\, May 28.
URL:https://villagemusicschool.com/event/closed-memorialday2019/
LOCATION:NC
CATEGORIES:Closed
END:VEVENT
BEGIN:VEVENT
DTSTART;VALUE=DATE:20190415
DTEND;VALUE=DATE:20190421
DTSTAMP:20260425T064150
CREATED:20181004T150458Z
LAST-MODIFIED:20181005T181219Z
UID:590-1555286400-1555804799@villagemusicschool.com
SUMMARY:Closed - Spring Break
DESCRIPTION:We are closed for Spring Break. We’ll be back on Monday\, April 22.
URL:https://villagemusicschool.com/event/closed-springbreak2019/
LOCATION:NC
CATEGORIES:Closed
END:VEVENT
BEGIN:VEVENT
DTSTART;VALUE=DATE:20181222
DTEND;VALUE=DATE:20190102
DTSTAMP:20260425T064150
CREATED:20171027T191312Z
LAST-MODIFIED:20171214T215538Z
UID:443-1545436800-1546387199@villagemusicschool.com
SUMMARY:Closed - Winter Break
DESCRIPTION:We’re closed for the holidays. We’ll be back on Wednesday\, January 2.
URL:https://villagemusicschool.com/event/closed-winter-break-2018/
LOCATION:NC
CATEGORIES:Closed
END:VEVENT
BEGIN:VEVENT
DTSTART;VALUE=DATE:20181210
DTEND;VALUE=DATE:20181211
DTSTAMP:20260425T064150
CREATED:20190222T193458Z
LAST-MODIFIED:20190222T193458Z
UID:742-1544400000-1544486399@villagemusicschool.com
SUMMARY:Closed - Snow Day
DESCRIPTION:VMS will be closed today due to the inclement weather. Have fun\, stay warm and be safe!
URL:https://villagemusicschool.com/event/closed-snow-day-12-10-2018/
LOCATION:Village Music School\, 101 Gathering Park Circle\, Cary\, NC\, 27519\, United States
CATEGORIES:Closed
END:VEVENT
BEGIN:VEVENT
DTSTART;VALUE=DATE:20181121
DTEND;VALUE=DATE:20181125
DTSTAMP:20260425T064150
CREATED:20171027T191052Z
LAST-MODIFIED:20171027T191052Z
UID:441-1542758400-1543103999@villagemusicschool.com
SUMMARY:Closed - Thanksgiving Break
DESCRIPTION:We’re closed for Thanksgiving Break. We will be back on Monday\, November 26. Listen to some music\, play some music\, and enjoy the break!
URL:https://villagemusicschool.com/event/closed-thanksgiving-break-2018/
LOCATION:NC
CATEGORIES:Closed
END:VEVENT
BEGIN:VEVENT
DTSTART;VALUE=DATE:20180917
DTEND;VALUE=DATE:20180918
DTSTAMP:20260425T064150
CREATED:20190222T193313Z
LAST-MODIFIED:20190222T193313Z
UID:740-1537142400-1537228799@villagemusicschool.com
SUMMARY:Closed - Inclement Weather
DESCRIPTION:VMS will be closed today due to the inclement weather. Be safe!
URL:https://villagemusicschool.com/event/closed-inclement-weather-9-17-2018/
LOCATION:Village Music School\, 101 Gathering Park Circle\, Cary\, NC\, 27519\, United States
CATEGORIES:Closed
END:VEVENT
BEGIN:VEVENT
DTSTART;VALUE=DATE:20180915
DTEND;VALUE=DATE:20180916
DTSTAMP:20260425T064150
CREATED:20190222T193238Z
LAST-MODIFIED:20190222T193238Z
UID:738-1536969600-1537055999@villagemusicschool.com
SUMMARY:Closed - Inclement Weather
DESCRIPTION:VMS will be closed today due to the inclement weather. Be safe!
URL:https://villagemusicschool.com/event/closed-inclement-weather-9-15-2018/
LOCATION:Village Music School\, 101 Gathering Park Circle\, Cary\, NC\, 27519\, United States
CATEGORIES:Closed
END:VEVENT
BEGIN:VEVENT
DTSTART;VALUE=DATE:20180914
DTEND;VALUE=DATE:20180915
DTSTAMP:20260425T064150
CREATED:20190222T193156Z
LAST-MODIFIED:20190222T193156Z
UID:736-1536883200-1536969599@villagemusicschool.com
SUMMARY:Closed - Inclement Weather
DESCRIPTION:VMS will be closed today due to the inclement weather. Be safe!
URL:https://villagemusicschool.com/event/closed-inclement-weather-9-14-2018/
LOCATION:Village Music School\, 101 Gathering Park Circle\, Cary\, NC\, 27519\, United States
CATEGORIES:Closed
END:VEVENT
BEGIN:VEVENT
DTSTART;VALUE=DATE:20180913
DTEND;VALUE=DATE:20180914
DTSTAMP:20260425T064150
CREATED:20190222T193119Z
LAST-MODIFIED:20190222T193119Z
UID:734-1536796800-1536883199@villagemusicschool.com
SUMMARY:Closed - Inclement Weather
DESCRIPTION:VMS will be closed today due to the inclement weather. Be safe!
URL:https://villagemusicschool.com/event/closed-inclement-weather-9-13-2018/
LOCATION:Village Music School\, 101 Gathering Park Circle\, Cary\, NC\, 27519\, United States
CATEGORIES:Closed
END:VEVENT
BEGIN:VEVENT
DTSTART;VALUE=DATE:20180901
DTEND;VALUE=DATE:20180904
DTSTAMP:20260425T064150
CREATED:20171027T190839Z
LAST-MODIFIED:20171214T215719Z
UID:439-1535760000-1536019199@villagemusicschool.com
SUMMARY:Closed - Labor Day
DESCRIPTION:We’re closed for Labor Day weekend. We’ll be back on Tuesday\, September 4.
URL:https://villagemusicschool.com/event/closed-laborday2018/
LOCATION:NC
CATEGORIES:Closed
END:VEVENT
BEGIN:VEVENT
DTSTART;VALUE=DATE:20180626
DTEND;VALUE=DATE:20180707
DTSTAMP:20260425T064150
CREATED:20171027T190715Z
LAST-MODIFIED:20171214T215744Z
UID:437-1529971200-1530921599@villagemusicschool.com
SUMMARY:Closed - Summer Break
DESCRIPTION:We are closed for summer break. We’ll be back on Saturday\, July 7.
URL:https://villagemusicschool.com/event/closed-summerbreak2018/
LOCATION:NC
CATEGORIES:Closed
END:VEVENT
BEGIN:VEVENT
DTSTART;VALUE=DATE:20180526
DTEND;VALUE=DATE:20180529
DTSTAMP:20260425T064150
CREATED:20171027T190535Z
LAST-MODIFIED:20171214T215818Z
UID:435-1527292800-1527551999@villagemusicschool.com
SUMMARY:Closed - Memorial Day
DESCRIPTION:We are closed for Memorial Day weekend. We’ll be back on Tuesday\, May 29.
URL:https://villagemusicschool.com/event/closed-memorialday2018/
LOCATION:NC
CATEGORIES:Closed
END:VEVENT
BEGIN:VEVENT
DTSTART;VALUE=DATE:20180329
DTEND;VALUE=DATE:20180407
DTSTAMP:20260425T064150
CREATED:20171027T190325Z
LAST-MODIFIED:20171214T215845Z
UID:433-1522281600-1523059199@villagemusicschool.com
SUMMARY:Closed - Spring Break
DESCRIPTION:We are closed for spring break. We’ll be back on Saturday\, April 7.
URL:https://villagemusicschool.com/event/closed-springbreak2018/
LOCATION:NC
CATEGORIES:Closed
END:VEVENT
END:VCALENDAR