BEGIN:VCALENDAR
VERSION:2.0
PRODID:-//Village Music School - Cary, NC - ECPv6.15.20//NONSGML v1.0//EN
CALSCALE:GREGORIAN
METHOD:PUBLISH
X-ORIGINAL-URL:https://villagemusicschool.com
X-WR-CALDESC:Events for Village Music School - Cary, NC
REFRESH-INTERVAL;VALUE=DURATION:PT1H
X-Robots-Tag:noindex
X-PUBLISHED-TTL:PT1H
BEGIN:VTIMEZONE
TZID:America/New_York
BEGIN:DAYLIGHT
TZOFFSETFROM:-0500
TZOFFSETTO:-0400
TZNAME:EDT
DTSTART:20230312T070000
END:DAYLIGHT
BEGIN:STANDARD
TZOFFSETFROM:-0400
TZOFFSETTO:-0500
TZNAME:EST
DTSTART:20231105T060000
END:STANDARD
BEGIN:DAYLIGHT
TZOFFSETFROM:-0500
TZOFFSETTO:-0400
TZNAME:EDT
DTSTART:20240310T070000
END:DAYLIGHT
BEGIN:STANDARD
TZOFFSETFROM:-0400
TZOFFSETTO:-0500
TZNAME:EST
DTSTART:20241103T060000
END:STANDARD
BEGIN:DAYLIGHT
TZOFFSETFROM:-0500
TZOFFSETTO:-0400
TZNAME:EDT
DTSTART:20250309T070000
END:DAYLIGHT
BEGIN:STANDARD
TZOFFSETFROM:-0400
TZOFFSETTO:-0500
TZNAME:EST
DTSTART:20251102T060000
END:STANDARD
END:VTIMEZONE
BEGIN:VEVENT
DTSTART;TZID=America/New_York:20240808T000000
DTEND;TZID=America/New_York:20240808T235959
DTSTAMP:20260420T163019
CREATED:20240808T155034Z
LAST-MODIFIED:20240808T155317Z
UID:1766-1723075200-1723161599@villagemusicschool.com
SUMMARY:Online Only - Aug 8 - Tropical Storm Debby
DESCRIPTION:We’ll be online only today\, Aug 8 due to Tropical Storm Debby. View more details about how we handle bad weather days here. If you’re an affected student\, please check your email for more details.
URL:https://villagemusicschool.com/event/online-only-2024-08-08/
LOCATION:Village Music School\, 101 Gathering Park Circle\, Cary\, North Carolina\, 27519\, United States
CATEGORIES:Closed
ATTACH;FMTTYPE=image/jpeg:https://villagemusicschool.com/wp-content/uploads/2024/01/wind-illustration.jpg
END:VEVENT
END:VCALENDAR