BEGIN:VCALENDAR
VERSION:2.0
PRODID:-//Village Music School - Cary, NC - ECPv6.15.20//NONSGML v1.0//EN
CALSCALE:GREGORIAN
METHOD:PUBLISH
X-ORIGINAL-URL:https://villagemusicschool.com
X-WR-CALDESC:Events for Village Music School - Cary, NC
REFRESH-INTERVAL;VALUE=DURATION:PT1H
X-Robots-Tag:noindex
X-PUBLISHED-TTL:PT1H
BEGIN:VTIMEZONE
TZID:America/New_York
BEGIN:DAYLIGHT
TZOFFSETFROM:-0500
TZOFFSETTO:-0400
TZNAME:EDT
DTSTART:20220313T070000
END:DAYLIGHT
BEGIN:STANDARD
TZOFFSETFROM:-0400
TZOFFSETTO:-0500
TZNAME:EST
DTSTART:20221106T060000
END:STANDARD
BEGIN:DAYLIGHT
TZOFFSETFROM:-0500
TZOFFSETTO:-0400
TZNAME:EDT
DTSTART:20230312T070000
END:DAYLIGHT
BEGIN:STANDARD
TZOFFSETFROM:-0400
TZOFFSETTO:-0500
TZNAME:EST
DTSTART:20231105T060000
END:STANDARD
BEGIN:DAYLIGHT
TZOFFSETFROM:-0500
TZOFFSETTO:-0400
TZNAME:EDT
DTSTART:20240310T070000
END:DAYLIGHT
BEGIN:STANDARD
TZOFFSETFROM:-0400
TZOFFSETTO:-0500
TZNAME:EST
DTSTART:20241103T060000
END:STANDARD
END:VTIMEZONE
BEGIN:VEVENT
DTSTART;TZID=America/New_York:20230513T110000
DTEND;TZID=America/New_York:20230513T114500
DTSTAMP:20260420T070511
CREATED:20230506T010103Z
LAST-MODIFIED:20230612T021411Z
UID:1596-1683975600-1683978300@villagemusicschool.com
SUMMARY:Student Recital - Ms. Emily
DESCRIPTION:Student performances of pieces that they prepared for Ms. Emily’s recital. Hosted at Village Music School.
URL:https://villagemusicschool.com/event/student-recital-emily-s-2023-05-13/
LOCATION:Village Music School\, 101 Gathering Park Circle\, Cary\, North Carolina\, 27519\, United States
CATEGORIES:Student Recital
ATTACH;FMTTYPE=image/jpeg:https://villagemusicschool.com/wp-content/uploads/2022/09/performance-competition-workshop-featured-image-scaled.jpeg
END:VEVENT
END:VCALENDAR